BEGIN:VCALENDAR
VERSION:2.0
PRODID:-//rm//event//DE
METHOD:REQUEST
NAME:rm
X-WR-CALNAME:rm
BEGIN:VEVENT
UID:10f2ac3b-392e-46ad-9971-d2fd940b8c02
SEQUENCE:0
DTSTAMP:20260423T175128Z
DTSTART:20230508T220000Z
DTEND:20230508T220000Z
SUMMARY:Bericht über das 1. Quartal
DESCRIPTION:
URL;VALUE=URI:https://www.rheinmetall.com/de/events/2023/ir/bericht-ueber-
 das-1-quartal
END:VEVENT
END:VCALENDAR