BEGIN:VCALENDAR
VERSION:2.0
PRODID:-//rm//event//DE
METHOD:REQUEST
NAME:rm
X-WR-CALNAME:rm
BEGIN:VEVENT
UID:298fe79c-0e4b-4495-ae40-5a4bc8f7d4a8
SEQUENCE:0
DTSTAMP:20260425T032654Z
DTSTART:20221207T000000Z
DTEND:20221207T000000Z
SUMMARY:Berenberg European Conference 2022
LOCATION:Vereinigtes Königreich
DESCRIPTION:
URL;VALUE=URI:https://www.rheinmetall.com/de/events/2022/ir/berenberg-euro
 pean-conference-2022
END:VEVENT
END:VCALENDAR