BEGIN:VCALENDAR
VERSION:2.0
PRODID:-//rm//event//DE
METHOD:REQUEST
NAME:rm
X-WR-CALNAME:rm
BEGIN:VEVENT
UID:0c6c37f4-a095-4e6f-8099-54052be95541
SEQUENCE:0
DTSTAMP:20260423T163337Z
DTSTART:20220921T000000Z
DTEND:20220921T000000Z
SUMMARY:2022 German Corporate Conference\, Berenberg und Goldman Sachs
LOCATION:München\, Deutschland
DESCRIPTION:
URL;VALUE=URI:https://www.rheinmetall.com/de/events/2022/ir/2022-german-co
 rporate-conference-berenberg-und-goldman-sachs
END:VEVENT
END:VCALENDAR