BEGIN:VCALENDAR
VERSION:2.0
PRODID:-//rm//event//DE
METHOD:REQUEST
NAME:rm
X-WR-CALNAME:rm
BEGIN:VEVENT
UID:73c9c520-1c76-4c3f-b980-89e751025ebb
SEQUENCE:0
DTSTAMP:20260424T071125Z
DTSTART:20220912T000000Z
DTEND:20220912T000000Z
SUMMARY:Metzler Dialog
LOCATION:Frankfurt\, Deutschland
DESCRIPTION:
URL;VALUE=URI:https://www.rheinmetall.com/de/events/2022/ir/metzler-dialog
END:VEVENT
END:VCALENDAR