BEGIN:VCALENDAR
VERSION:2.0
PRODID:-//rm//event//DE
METHOD:REQUEST
NAME:rm
X-WR-CALNAME:rm
BEGIN:VEVENT
UID:c8855ee4-6171-464c-a6cc-2f5bf009c04c
SEQUENCE:0
DTSTAMP:20260423T161737Z
DTSTART:20220907T000000Z
DTEND:20220907T000000Z
SUMMARY:Commerzbank and ODDO BHF Corporate Conference
LOCATION:Frankfurt\, Deutschland
DESCRIPTION:
URL;VALUE=URI:https://www.rheinmetall.com/de/events/2022/ir/commerzbank-an
 d-oddo-bhf-corporate-conference
END:VEVENT
END:VCALENDAR