BEGIN:VCALENDAR
VERSION:2.0
PRODID:-//rm//event//DE
METHOD:REQUEST
NAME:rm
X-WR-CALNAME:rm
BEGIN:VEVENT
UID:2f26abc1-dbc5-4dde-b699-8407ac9c25fa
SEQUENCE:0
DTSTAMP:20260423T161808Z
DTSTART:20220524T000000Z
DTEND:20220525T000000Z
SUMMARY:dbAccess German Corporate Conference
LOCATION:Frankfurt\, Deutschland
DESCRIPTION:
URL;VALUE=URI:https://www.rheinmetall.com/de/events/2022/ir/dbaccess-germa
 n-corporate-conference
END:VEVENT
END:VCALENDAR