BEGIN:VCALENDAR
VERSION:2.0
PRODID:-//rm//event//DE
METHOD:REQUEST
NAME:rm
X-WR-CALNAME:rm
BEGIN:VEVENT
UID:0d0145cb-f791-48e2-8115-b07b1c173936
SEQUENCE:0
DTSTAMP:20260423T221548Z
DTSTART:20220510T000000Z
DTEND:20220510T000000Z
SUMMARY:Hauptversammlung Rheinmetall AG
LOCATION:Online
DESCRIPTION:
URL;VALUE=URI:https://www.rheinmetall.com/de/events/2022/ir/hauptversammlu
 ng-rheinmetall-ag
END:VEVENT
END:VCALENDAR