BEGIN:VCALENDAR
VERSION:2.0
PRODID:-//rm//event//DE
METHOD:REQUEST
NAME:rm
X-WR-CALNAME:rm
BEGIN:VEVENT
UID:6eaf3747-429f-42cd-b819-86129d9e1df6
SEQUENCE:0
DTSTAMP:20260423T162425Z
DTSTART:20220506T000000Z
DTEND:20220506T000000Z
SUMMARY:Bericht über das 1. Quartal
DESCRIPTION:
URL;VALUE=URI:https://www.rheinmetall.com/de/events/2022/ir/bericht-ueber-
 das-1-quartal
END:VEVENT
END:VCALENDAR