BEGIN:VCALENDAR
VERSION:2.0
PRODID:-//rm//event//DE
METHOD:REQUEST
NAME:rm
X-WR-CALNAME:rm
BEGIN:VEVENT
UID:6c60f1fe-33ce-48f7-88aa-9f86f14f871b
SEQUENCE:0
DTSTAMP:20260423T191950Z
DTSTART:20220110T000000Z
DTEND:20220112T000000Z
SUMMARY:German Investment Seminar\, Commerzbank
DESCRIPTION:
URL;VALUE=URI:https://www.rheinmetall.com/de/events/2022/ir/german-investm
 ent-seminar-commerzbank
END:VEVENT
END:VCALENDAR