BEGIN:VCALENDAR
VERSION:2.0
PRODID:-//rm//event//DE
METHOD:REQUEST
NAME:rm
X-WR-CALNAME:rm
BEGIN:VEVENT
UID:cca03385-226d-4cca-a1b3-0d02436c21de
SEQUENCE:0
DTSTAMP:20260423T175144Z
DTSTART:20220109T000000Z
DTEND:20220109T000000Z
SUMMARY:ODDO BHF Forum
DESCRIPTION:
URL;VALUE=URI:https://www.rheinmetall.com/de/events/2022/ir/oddo-bhf-forum
END:VEVENT
END:VCALENDAR