BEGIN:VCALENDAR
VERSION:2.0
PRODID:-//rm//event//DE
METHOD:REQUEST
NAME:rm
X-WR-CALNAME:rm
BEGIN:VEVENT
UID:eb9e0b2f-2892-425d-b47e-bab513ab03d9
SEQUENCE:0
DTSTAMP:20260424T000819Z
DTSTART:20211123T000000Z
DTEND:20211123T000000Z
SUMMARY:Deutsches Eigenkapitalforum
LOCATION:Online
DESCRIPTION:
URL;VALUE=URI:https://www.rheinmetall.com/de/events/2021/ir/deutsches-eige
 nkapitalforum
END:VEVENT
END:VCALENDAR