BEGIN:VCALENDAR
VERSION:2.0
PRODID:-//rm//event//DE
METHOD:REQUEST
NAME:rm
X-WR-CALNAME:rm
BEGIN:VEVENT
UID:ed363fe0-b8d5-4793-9d4e-9ee3cb69a2dd
SEQUENCE:0
DTSTAMP:20260425T032811Z
DTSTART:20210923T000000Z
DTEND:20210923T000000Z
SUMMARY:10th Baader Investment Conference
LOCATION:Online
DESCRIPTION:
URL;VALUE=URI:https://www.rheinmetall.com/de/events/2021/ir/10th-baader-in
 vestment-conference
END:VEVENT
END:VCALENDAR