BEGIN:VCALENDAR
VERSION:2.0
PRODID:-//rm//event//DE
METHOD:REQUEST
NAME:rm
X-WR-CALNAME:rm
BEGIN:VEVENT
UID:b2e91312-904e-4739-a5ac-33e75b3da18f
SEQUENCE:0
DTSTAMP:20260424T002135Z
DTSTART:20210917T000000Z
DTEND:20210917T000000Z
SUMMARY:Quo Vadis Industrials Tour\, UBS
LOCATION:Online
DESCRIPTION:
URL;VALUE=URI:https://www.rheinmetall.com/de/events/2021/ir/quo-vadis-indu
 strials-tour-ubs
END:VEVENT
END:VCALENDAR