BEGIN:VCALENDAR
VERSION:2.0
PRODID:-//rm//event//DE
METHOD:REQUEST
NAME:rm
X-WR-CALNAME:rm
BEGIN:VEVENT
UID:43adc58f-d4ec-408d-b08f-c808429c70fd
SEQUENCE:0
DTSTAMP:20260423T161739Z
DTSTART:20210901T000000Z
DTEND:20210901T000000Z
SUMMARY:Corporate Conference\, Commerzbank
LOCATION:Online
DESCRIPTION:
URL;VALUE=URI:https://www.rheinmetall.com/de/events/2021/ir/corporate-conf
 erence-commerzbank
END:VEVENT
END:VCALENDAR