BEGIN:VCALENDAR
VERSION:2.0
PRODID:-//rm//event//DE
METHOD:REQUEST
NAME:rm
X-WR-CALNAME:rm
BEGIN:VEVENT
UID:3cd30d50-f21a-40c0-994e-86d6d0f4f432
SEQUENCE:0
DTSTAMP:20260423T161741Z
DTSTART:20210527T000000Z
DTEND:20210527T000000Z
SUMMARY:Best of Europe\, UBS
LOCATION:Online
DESCRIPTION:
URL;VALUE=URI:https://www.rheinmetall.com/de/events/2021/ir/best-of-europe
 -ubs
END:VEVENT
END:VCALENDAR