BEGIN:VCALENDAR
VERSION:2.0
PRODID:-//rm//event//DE
METHOD:REQUEST
NAME:rm
X-WR-CALNAME:rm
BEGIN:VEVENT
UID:5ac3d5d3-aa42-4ab0-944f-8f9a26686901
SEQUENCE:0
DTSTAMP:20260423T154705Z
DTSTART:20210520T000000Z
DTEND:20210520T000000Z
SUMMARY:Berenberg US Conference 2021
LOCATION:Online
DESCRIPTION:
URL;VALUE=URI:https://www.rheinmetall.com/de/events/2021/ir/berenberg-us-c
 onference-2021
END:VEVENT
END:VCALENDAR