BEGIN:VCALENDAR
VERSION:2.0
PRODID:-//rm//event//DE
METHOD:REQUEST
NAME:rm
X-WR-CALNAME:rm
BEGIN:VEVENT
UID:82718420-f0a2-4329-9520-a3d1815b98c3
SEQUENCE:0
DTSTAMP:20260423T154630Z
DTSTART:20210506T000000Z
DTEND:20210506T000000Z
SUMMARY:Bericht über das 1. Quartal
DESCRIPTION:
URL;VALUE=URI:https://www.rheinmetall.com/de/events/2021/ir/bericht-ueber-
 das-1-quartal
END:VEVENT
END:VCALENDAR