BEGIN:VCALENDAR
VERSION:2.0
PRODID:-//rm//event//DE
METHOD:REQUEST
NAME:rm
X-WR-CALNAME:rm
BEGIN:VEVENT
UID:32c0e38a-50c1-40e5-9f04-efc4a43f7081
SEQUENCE:0
DTSTAMP:20260423T123134Z
DTSTART:20210119T000000Z
DTEND:20240118T000000Z
SUMMARY:German Corporate Conference\, Unicredit Kepler Cheuvreux
LOCATION:Online
DESCRIPTION:
URL;VALUE=URI:https://www.rheinmetall.com/de/events/2021/ir/german-corpora
 te-conference-unicredit-kepler-cheuvreux
END:VEVENT
END:VCALENDAR