BEGIN:VCALENDAR
VERSION:2.0
PRODID:-//rm//event//DE
METHOD:REQUEST
NAME:rm
X-WR-CALNAME:rm
BEGIN:VEVENT
UID:d221a8fb-2add-4909-bb89-7867993cfc87
SEQUENCE:0
DTSTAMP:20260425T032805Z
DTSTART:20210113T000000Z
DTEND:20210113T000000Z
SUMMARY:SMID Cap Conference\, Bank of America
LOCATION:Online
DESCRIPTION:
URL;VALUE=URI:https://www.rheinmetall.com/de/events/2021/ir/smid-cap-confe
 rence-bank-of-america
END:VEVENT
END:VCALENDAR