BEGIN:VCALENDAR
VERSION:2.0
PRODID:-//rm//event//DE
METHOD:REQUEST
NAME:rm
X-WR-CALNAME:rm
BEGIN:VEVENT
UID:53124e90-d996-4d83-b008-c918ab77dda4
SEQUENCE:0
DTSTAMP:20260423T151816Z
DTSTART:20211208T000000Z
DTEND:20211208T000000Z
SUMMARY:Berenberg European Conference
LOCATION:Online
DESCRIPTION:
URL;VALUE=URI:https://www.rheinmetall.com/en/events/2021/ir/berenberg-euro
 pean-conference
END:VEVENT
END:VCALENDAR