BEGIN:VCALENDAR
VERSION:2.0
PRODID:-//rm//event//DE
METHOD:REQUEST
NAME:rm
X-WR-CALNAME:rm
BEGIN:VEVENT
UID:a7a321e3-4c73-4f39-af7e-f2f024845197
SEQUENCE:0
DTSTAMP:20260424T071313Z
DTSTART:20211130T000000Z
DTEND:20211130T000000Z
SUMMARY:Industrials Conference\, Goldman Sachs
LOCATION:Online
DESCRIPTION:
URL;VALUE=URI:https://www.rheinmetall.com/en/events/2021/ir/industrials-co
 nference-goldman-sachs
END:VEVENT
END:VCALENDAR