BEGIN:VCALENDAR
VERSION:2.0
PRODID:-//rm//event//DE
METHOD:REQUEST
NAME:rm
X-WR-CALNAME:rm
BEGIN:VEVENT
UID:f6fccd69-62ec-44f4-ab84-49a390ea22d5
SEQUENCE:0
DTSTAMP:20260423T231205Z
DTSTART:20211110T000000Z
DTEND:20211110T000000Z
SUMMARY:European Conference 2021\, UBS
LOCATION:Online
DESCRIPTION:
URL;VALUE=URI:https://www.rheinmetall.com/en/events/2021/ir/european-confe
 rence-2021-ubs
END:VEVENT
END:VCALENDAR