BEGIN:VCALENDAR
VERSION:2.0
PRODID:-//rm//event//DE
METHOD:REQUEST
NAME:rm
X-WR-CALNAME:rm
BEGIN:VEVENT
UID:87e96c6f-cac7-4fb4-a9de-e28706524c1e
SEQUENCE:0
DTSTAMP:20260423T092424Z
DTSTART:20211109T000000Z
DTEND:20211109T000000Z
SUMMARY:Metzler Dialog
LOCATION:Online
DESCRIPTION:
URL;VALUE=URI:https://www.rheinmetall.com/en/events/2021/ir/metzler-dialog
END:VEVENT
END:VCALENDAR