BEGIN:VCALENDAR
VERSION:2.0
PRODID:-//rm//event//DE
METHOD:REQUEST
NAME:rm
X-WR-CALNAME:rm
BEGIN:VEVENT
UID:42042f33-a406-4091-a31c-41915ee491a0
SEQUENCE:0
DTSTAMP:20260423T122858Z
DTSTART:20211105T000000Z
DTEND:20211105T000000Z
SUMMARY:Q3/2021 report
LOCATION:Online
DESCRIPTION:
URL;VALUE=URI:https://www.rheinmetall.com/en/events/2021/ir/q3-2021-report
END:VEVENT
END:VCALENDAR