BEGIN:VCALENDAR
VERSION:2.0
PRODID:-//rm//event//DE
METHOD:REQUEST
NAME:rm
X-WR-CALNAME:rm
BEGIN:VEVENT
UID:f89e9fc4-c261-4932-bdb4-0a0d0c7a0af7
SEQUENCE:0
DTSTAMP:20260424T221715Z
DTSTART:20210922T000000Z
DTEND:20210922T000000Z
SUMMARY:German Corporate Conference\, Berenberg and Goldman Sachs
LOCATION:Online
DESCRIPTION:
URL;VALUE=URI:https://www.rheinmetall.com/en/events/2021/ir/german-corpora
 te-conference-berenberg-and-goldman-sachs
END:VEVENT
END:VCALENDAR