BEGIN:VCALENDAR
VERSION:2.0
PRODID:-//rm//event//DE
METHOD:REQUEST
NAME:rm
X-WR-CALNAME:rm
BEGIN:VEVENT
UID:eb4d06cd-a479-489c-8993-98c378c1448c
SEQUENCE:0
DTSTAMP:20260424T002307Z
DTSTART:20210914T000000Z
DTEND:20210914T000000Z
SUMMARY:Global Defence Forum 2021\, Bank of America
LOCATION:Online
DESCRIPTION:
URL;VALUE=URI:https://www.rheinmetall.com/en/events/2021/ir/global-defence
 -forum-2021-bank-of-america
END:VEVENT
END:VCALENDAR