BEGIN:VCALENDAR
VERSION:2.0
PRODID:-//rm//event//DE
METHOD:REQUEST
NAME:rm
X-WR-CALNAME:rm
BEGIN:VEVENT
UID:beef9e07-acfe-4391-8c45-354ace25562e
SEQUENCE:0
DTSTAMP:20260423T174709Z
DTSTART:20210805T000000Z
DTEND:20210805T000000Z
SUMMARY:H1/2021 report
DESCRIPTION:
URL;VALUE=URI:https://www.rheinmetall.com/en/events/2021/ir/h1-2021-report
END:VEVENT
END:VCALENDAR