BEGIN:VCALENDAR
VERSION:2.0
PRODID:-//rm//event//DE
METHOD:REQUEST
NAME:rm
X-WR-CALNAME:rm
BEGIN:VEVENT
UID:7f7ce7f3-a3b8-4ea9-9d85-b1dc09997b4f
SEQUENCE:0
DTSTAMP:20260423T161850Z
DTSTART:20210616T000000Z
DTEND:20210617T000000Z
SUMMARY:dbAccess Berlin Conference
LOCATION:Online
DESCRIPTION:
URL;VALUE=URI:https://www.rheinmetall.com/en/events/2021/ir/dbaccess-berli
 n-conference
END:VEVENT
END:VCALENDAR