BEGIN:VCALENDAR
VERSION:2.0
PRODID:-//rm//event//DE
METHOD:REQUEST
NAME:rm
X-WR-CALNAME:rm
BEGIN:VEVENT
UID:acb63402-06ce-4bd1-8e8b-79c9ccdfc25c
SEQUENCE:0
DTSTAMP:20260423T180104Z
DTSTART:20210609T000000Z
DTEND:20210609T000000Z
SUMMARY:Warburg Highlights\, M.M. Warburg
LOCATION:Online
DESCRIPTION:
URL;VALUE=URI:https://www.rheinmetall.com/en/events/2021/ir/warburg-highli
 ghts-m-m-warburg
END:VEVENT
END:VCALENDAR