BEGIN:VCALENDAR
VERSION:2.0
PRODID:-//rm//event//DE
METHOD:REQUEST
NAME:rm
X-WR-CALNAME:rm
BEGIN:VEVENT
UID:750af1d0-a4b8-46a6-90be-018e2f3aa702
SEQUENCE:0
DTSTAMP:20260423T180104Z
DTSTART:20210608T000000Z
DTEND:20210608T000000Z
SUMMARY:Global Industrials and Transportation\, UBS
LOCATION:Online
DESCRIPTION:
URL;VALUE=URI:https://www.rheinmetall.com/en/events/2021/ir/global-industr
 ials-and-transportation-ubs
END:VEVENT
END:VCALENDAR