BEGIN:VCALENDAR
VERSION:2.0
PRODID:-//rm//event//DE
METHOD:REQUEST
NAME:rm
X-WR-CALNAME:rm
BEGIN:VEVENT
UID:d4a13691-729e-478e-afa0-1b325adb598e
SEQUENCE:0
DTSTAMP:20260424T043413Z
DTSTART:20210512T000000Z
DTEND:20210512T000000Z
SUMMARY:Pan European Small and Mid-Cap Conference\, UBS
LOCATION:Online
DESCRIPTION:
URL;VALUE=URI:https://www.rheinmetall.com/en/events/2021/ir/pan-european-s
 mall-and-mid-cap-conference-ubs
END:VEVENT
END:VCALENDAR