BEGIN:VCALENDAR
VERSION:2.0
PRODID:-//rm//event//DE
METHOD:REQUEST
NAME:rm
X-WR-CALNAME:rm
BEGIN:VEVENT
UID:96d1bd82-5d43-4a17-a681-6b3855a2ca70
SEQUENCE:0
DTSTAMP:20260423T163431Z
DTSTART:20210511T000000Z
DTEND:20210511T000000Z
SUMMARY:Annual Stockholder's Meeting Rheinmetall AG
LOCATION:Online
DESCRIPTION:
URL;VALUE=URI:https://www.rheinmetall.com/en/events/2021/ir/annual-stockho
 lder-s-meeting-rheinmetall-ag
END:VEVENT
END:VCALENDAR