BEGIN:VCALENDAR
VERSION:2.0
PRODID:-//rm//event//DE
METHOD:REQUEST
NAME:rm
X-WR-CALNAME:rm
BEGIN:VEVENT
UID:79264520-58f5-4384-9d47-951cb9793589
SEQUENCE:0
DTSTAMP:20260425T032944Z
DTSTART:20210507T000000Z
DTEND:20210507T000000Z
SUMMARY:European Small and Mid Cap Symposium\, Goldman Sachs
LOCATION:Online
DESCRIPTION:
URL;VALUE=URI:https://www.rheinmetall.com/en/events/2021/ir/european-small
 -and-mid-cap-symposium-goldman-sachs
END:VEVENT
END:VCALENDAR