BEGIN:VCALENDAR
VERSION:2.0
PRODID:-//rm//event//DE
METHOD:REQUEST
NAME:rm
X-WR-CALNAME:rm
BEGIN:VEVENT
UID:f19044ad-9ce1-44dc-8ff0-999393c7ccb7
SEQUENCE:0
DTSTAMP:20260423T161126Z
DTSTART:20210506T000000Z
DTEND:20210506T000000Z
SUMMARY:Q1/2021 report
DESCRIPTION:
URL;VALUE=URI:https://www.rheinmetall.com/en/events/2021/ir/q1-2021-report
END:VEVENT
END:VCALENDAR