BEGIN:VCALENDAR
VERSION:2.0
PRODID:-//rm//event//DE
METHOD:REQUEST
NAME:rm
X-WR-CALNAME:rm
BEGIN:VEVENT
UID:5fc3a3fa-4d6d-4e07-b668-18869254b2aa
SEQUENCE:0
DTSTAMP:20260424T144243Z
DTSTART:20210204T000000Z
DTEND:20210204T000000Z
SUMMARY:Capital Markets Day
DESCRIPTION:
URL;VALUE=URI:https://www.rheinmetall.com/en/events/2021/ir/capital-market
 s-day
END:VEVENT
END:VCALENDAR