BEGIN:VCALENDAR
VERSION:2.0
PRODID:-//rm//event//DE
METHOD:REQUEST
NAME:rm
X-WR-CALNAME:rm
BEGIN:VEVENT
UID:e96a6e51-a2a0-452a-a882-c8ff8d9940a6
SEQUENCE:0
DTSTAMP:20260425T041806Z
DTSTART:20210111T000000Z
DTEND:20210112T000000Z
SUMMARY:German Investment Seminar\, Commerzbank
LOCATION:Online
DESCRIPTION:
URL;VALUE=URI:https://www.rheinmetall.com/en/events/2021/ir/german-investm
 ent-seminar-commerzbank
END:VEVENT
END:VCALENDAR