BEGIN:VCALENDAR
VERSION:2.0
PRODID:-//rm//event//DE
METHOD:REQUEST
NAME:rm
X-WR-CALNAME:rm
BEGIN:VEVENT
UID:50955da3-857d-4509-91af-22373e2dd797
SEQUENCE:0
DTSTAMP:20260424T081629Z
DTSTART:20221206T000000Z
DTEND:20221206T000000Z
SUMMARY:Goldman Sachs\, Industrials & Auto Conference
LOCATION:United Kingdom
DESCRIPTION:
URL;VALUE=URI:https://www.rheinmetall.com/en/events/2022/ir/goldman-sachs-
 industrials-auto-conference
END:VEVENT
END:VCALENDAR