BEGIN:VCALENDAR
VERSION:2.0
PRODID:-//rm//event//DE
METHOD:REQUEST
NAME:rm
X-WR-CALNAME:rm
BEGIN:VEVENT
UID:5897f0a2-06ef-4802-803a-410dcf301b7c
SEQUENCE:0
DTSTAMP:20260423T161852Z
DTSTART:20221129T000000Z
DTEND:20221129T000000Z
SUMMARY:Deutsches Eigenkapitalforum
LOCATION:Frankfurt\, Germany
DESCRIPTION:
URL;VALUE=URI:https://www.rheinmetall.com/en/events/2022/ir/deutsches-eige
 nkapitalforum
END:VEVENT
END:VCALENDAR