BEGIN:VCALENDAR
VERSION:2.0
PRODID:-//rm//event//DE
METHOD:REQUEST
NAME:rm
X-WR-CALNAME:rm
BEGIN:VEVENT
UID:8c18848e-5548-4618-a1c3-b86bb592a81a
SEQUENCE:0
DTSTAMP:20260425T193630Z
DTSTART:20221110T000000Z
DTEND:20221110T000000Z
SUMMARY:Q3/2022 report
LOCATION:Online
DESCRIPTION:
URL;VALUE=URI:https://www.rheinmetall.com/en/events/2022/ir/q3-2022-report
END:VEVENT
END:VCALENDAR