BEGIN:VCALENDAR
VERSION:2.0
PRODID:-//rm//event//DE
METHOD:REQUEST
NAME:rm
X-WR-CALNAME:rm
BEGIN:VEVENT
UID:3ef0a9d1-c47a-4699-b5c2-f04441733876
SEQUENCE:0
DTSTAMP:20260424T071248Z
DTSTART:20220922T000000Z
DTEND:20220922T000000Z
SUMMARY:Baader Investment Conference
LOCATION:Munich\, Deutschland
DESCRIPTION:
URL;VALUE=URI:https://www.rheinmetall.com/en/events/2022/ir/baader-investm
 ent-conference
END:VEVENT
END:VCALENDAR