BEGIN:VCALENDAR
VERSION:2.0
PRODID:-//rm//event//DE
METHOD:REQUEST
NAME:rm
X-WR-CALNAME:rm
BEGIN:VEVENT
UID:8a3ce4a1-1d49-4c9e-98f1-12d0c714ae6a
SEQUENCE:0
DTSTAMP:20260423T161227Z
DTSTART:20220805T000000Z
DTEND:20220805T000000Z
SUMMARY:H1/2022 report
LOCATION:Online
DESCRIPTION:
URL;VALUE=URI:https://www.rheinmetall.com/en/events/2022/ir/h1-2022-report
END:VEVENT
END:VCALENDAR