BEGIN:VCALENDAR
VERSION:2.0
PRODID:-//rm//event//DE
METHOD:REQUEST
NAME:rm
X-WR-CALNAME:rm
BEGIN:VEVENT
UID:0474e88b-9849-4576-b3df-4edaa1eb0269
SEQUENCE:0
DTSTAMP:20260423T202710Z
DTSTART:20220624T000000Z
DTEND:20220624T000000Z
SUMMARY:Warburg Highlights\, M.M. Warburg
LOCATION:Hamburg\, Germany
DESCRIPTION:
URL;VALUE=URI:https://www.rheinmetall.com/en/events/2022/ir/warburg-highli
 ghts-m-m-warburg
END:VEVENT
END:VCALENDAR