BEGIN:VCALENDAR
VERSION:2.0
PRODID:-//rm//event//DE
METHOD:REQUEST
NAME:rm
X-WR-CALNAME:rm
BEGIN:VEVENT
UID:be3dcda9-06a9-4d56-ac6d-e6680e39d57e
SEQUENCE:0
DTSTAMP:20260425T033142Z
DTSTART:20231207T000000Z
DTEND:20231207T000000Z
SUMMARY:Berenberg European Conference 2023
LOCATION:United Kingdom
DESCRIPTION:
URL;VALUE=URI:https://www.rheinmetall.com/en/events/2023/ir/berenberg-euro
 pean-conference-2023
END:VEVENT
END:VCALENDAR