BEGIN:VCALENDAR
VERSION:2.0
PRODID:-//rm//event//DE
METHOD:REQUEST
NAME:rm
X-WR-CALNAME:rm
BEGIN:VEVENT
UID:4ffbeea7-9a1b-4318-82e2-6343f7efa821
SEQUENCE:0
DTSTAMP:20260425T032955Z
DTSTART:20231120T000000Z
DTEND:20231121T000000Z
SUMMARY:Capital Markets Day
LOCATION:Unterluess\, Germany
DESCRIPTION:
URL;VALUE=URI:https://www.rheinmetall.com/en/events/2023/ir/capital-market
 s-day
END:VEVENT
END:VCALENDAR