BEGIN:VCALENDAR
VERSION:2.0
PRODID:-//rm//event//DE
METHOD:REQUEST
NAME:rm
X-WR-CALNAME:rm
BEGIN:VEVENT
UID:a0866dea-3476-4ab6-ba5a-64e78542153c
SEQUENCE:0
DTSTAMP:20260423T180104Z
DTSTART:20231110T000000Z
DTEND:20231110T000000Z
SUMMARY:Bank Pekao\, 1st Foreign Stocks Conference Poland
LOCATION:Online
DESCRIPTION:
URL;VALUE=URI:https://www.rheinmetall.com/en/events/2023/ir/bank-pekao-1st
 -foreign-stocks-conference-poland
END:VEVENT
END:VCALENDAR