BEGIN:VCALENDAR
VERSION:2.0
PRODID:-//rm//event//DE
METHOD:REQUEST
NAME:rm
X-WR-CALNAME:rm
BEGIN:VEVENT
UID:9fb2b67e-8d67-4cd7-9218-e37bc206596c
SEQUENCE:0
DTSTAMP:20260423T180027Z
DTSTART:20231109T000000Z
DTEND:20231109T000000Z
SUMMARY:Q3/2023 Conference Call
LOCATION:Online
DESCRIPTION:
URL;VALUE=URI:https://www.rheinmetall.com/en/events/2023/ir/q3-2023-confer
 ence-call
END:VEVENT
END:VCALENDAR