BEGIN:VCALENDAR
VERSION:2.0
PRODID:-//rm//event//DE
METHOD:REQUEST
NAME:rm
X-WR-CALNAME:rm
BEGIN:VEVENT
UID:6639ac69-568f-431e-9e54-67b7b88f0769
SEQUENCE:0
DTSTAMP:20260425T041807Z
DTSTART:20230915T000000Z
DTEND:20230915T000000Z
SUMMARY:UBS\, Quo Vadis Industrials Tour
LOCATION:Online
DESCRIPTION:
URL;VALUE=URI:https://www.rheinmetall.com/en/events/2023/ir/ubs-quo-vadis-
 industrials-tour
END:VEVENT
END:VCALENDAR