BEGIN:VCALENDAR
VERSION:2.0
PRODID:-//rm//event//DE
METHOD:REQUEST
NAME:rm
X-WR-CALNAME:rm
BEGIN:VEVENT
UID:9c8769df-29ef-4aa3-b73a-39ac8e21899c
SEQUENCE:0
DTSTAMP:20260424T002212Z
DTSTART:20230906T000000Z
DTEND:20230906T000000Z
SUMMARY:Commerzbank & ODDO BHF Corporate Conference 2023
LOCATION:Frankfurt\, Germany
DESCRIPTION:
URL;VALUE=URI:https://www.rheinmetall.com/en/events/2023/ir/commerzbank-od
 do-bhf-corporate-conference-2023
END:VEVENT
END:VCALENDAR