BEGIN:VCALENDAR
VERSION:2.0
PRODID:-//rm//event//DE
METHOD:REQUEST
NAME:rm
X-WR-CALNAME:rm
BEGIN:VEVENT
UID:6d305307-9d1e-4778-8b99-dac5faa9feb1
SEQUENCE:0
DTSTAMP:20260424T030048Z
DTSTART:20230606T000000Z
DTEND:20230606T000000Z
SUMMARY:BNP Paribas Exane CEO Conference
LOCATION:Paris\, France
DESCRIPTION:
URL;VALUE=URI:https://www.rheinmetall.com/en/events/2023/ir/bnp-paribas-ex
 ane-ceo-conference
END:VEVENT
END:VCALENDAR