BEGIN:VCALENDAR
VERSION:2.0
PRODID:-//rm//event//DE
METHOD:REQUEST
NAME:rm
X-WR-CALNAME:rm
BEGIN:VEVENT
UID:8d06993d-eabe-4843-bf01-3d5518b17be7
SEQUENCE:0
DTSTAMP:20260424T015835Z
DTSTART:20230508T220000Z
DTEND:20230508T220000Z
SUMMARY:Q1 2023 Conference Call
DESCRIPTION:
URL;VALUE=URI:https://www.rheinmetall.com/en/events/2023/ir/q1-2023-confer
 ence-call
END:VEVENT
END:VCALENDAR